BEGIN:VCALENDAR
VERSION:2.0
PRODID:-//STTCSN - ECPv6.15.18//NONSGML v1.0//EN
CALSCALE:GREGORIAN
METHOD:PUBLISH
X-WR-CALNAME:STTCSN
X-ORIGINAL-URL:https://www.sttcsn.org
X-WR-CALDESC:Événements pour STTCSN
REFRESH-INTERVAL;VALUE=DURATION:PT1H
X-Robots-Tag:noindex
X-PUBLISHED-TTL:PT1H
BEGIN:VTIMEZONE
TZID:America/Toronto
BEGIN:DAYLIGHT
TZOFFSETFROM:-0500
TZOFFSETTO:-0400
TZNAME:EDT
DTSTART:20240310T070000
END:DAYLIGHT
BEGIN:STANDARD
TZOFFSETFROM:-0400
TZOFFSETTO:-0500
TZNAME:EST
DTSTART:20241103T060000
END:STANDARD
BEGIN:DAYLIGHT
TZOFFSETFROM:-0500
TZOFFSETTO:-0400
TZNAME:EDT
DTSTART:20250309T070000
END:DAYLIGHT
BEGIN:STANDARD
TZOFFSETFROM:-0400
TZOFFSETTO:-0500
TZNAME:EST
DTSTART:20251102T060000
END:STANDARD
BEGIN:DAYLIGHT
TZOFFSETFROM:-0500
TZOFFSETTO:-0400
TZNAME:EDT
DTSTART:20260308T070000
END:DAYLIGHT
BEGIN:STANDARD
TZOFFSETFROM:-0400
TZOFFSETTO:-0500
TZNAME:EST
DTSTART:20261101T060000
END:STANDARD
END:VTIMEZONE
BEGIN:VEVENT
DTSTART;TZID=America/Toronto:20250602T190000
DTEND;TZID=America/Toronto:20250602T210000
DTSTAMP:20260420T054854
CREATED:20250510T172332Z
LAST-MODIFIED:20250526T211322Z
UID:10000086-1748890800-1748898000@www.sttcsn.org
SUMMARY:Vent de souffle pour faire tomber les quilles
DESCRIPTION:Le STTCSN profite du congrès pour organiser une courte activité de socialisation\, une belle occasion de renforcer nos liens\, d’échanger sur la négo et de nourrir notre solidarité syndicale.
URL:https://www.sttcsn.org/evenement/5-a-7-nego-quebec/
LOCATION:Quillorama Frontenac\, 2020 Rue Cyrille-Duquet\, Québec\, Québec\, G1N 2G3\, Canada
CATEGORIES:Activité STTCSN
ORGANIZER;CN="STTCSN":MAILTO:STTCSN.Secretariat@csn.qc.ca
END:VEVENT
END:VCALENDAR